BEGIN:VCALENDAR
VERSION:2.0
PRODID:-//NERO - ECPv6.15.18//NONSGML v1.0//EN
CALSCALE:GREGORIAN
METHOD:PUBLISH
X-WR-CALNAME:NERO
X-ORIGINAL-URL:https://nero-network.eu
X-WR-CALDESC:Events for NERO
REFRESH-INTERVAL;VALUE=DURATION:PT1H
X-Robots-Tag:noindex
X-PUBLISHED-TTL:PT1H
BEGIN:VTIMEZONE
TZID:Europe/Brussels
BEGIN:DAYLIGHT
TZOFFSETFROM:+0100
TZOFFSETTO:+0200
TZNAME:CEST
DTSTART:20230326T010000
END:DAYLIGHT
BEGIN:STANDARD
TZOFFSETFROM:+0200
TZOFFSETTO:+0100
TZNAME:CET
DTSTART:20231029T010000
END:STANDARD
BEGIN:DAYLIGHT
TZOFFSETFROM:+0100
TZOFFSETTO:+0200
TZNAME:CEST
DTSTART:20240331T010000
END:DAYLIGHT
BEGIN:STANDARD
TZOFFSETFROM:+0200
TZOFFSETTO:+0100
TZNAME:CET
DTSTART:20241027T010000
END:STANDARD
BEGIN:DAYLIGHT
TZOFFSETFROM:+0100
TZOFFSETTO:+0200
TZNAME:CEST
DTSTART:20250330T010000
END:DAYLIGHT
BEGIN:STANDARD
TZOFFSETFROM:+0200
TZOFFSETTO:+0100
TZNAME:CET
DTSTART:20251026T010000
END:STANDARD
BEGIN:DAYLIGHT
TZOFFSETFROM:+0100
TZOFFSETTO:+0200
TZNAME:CEST
DTSTART:20260329T010000
END:DAYLIGHT
BEGIN:STANDARD
TZOFFSETFROM:+0200
TZOFFSETTO:+0100
TZNAME:CET
DTSTART:20261025T010000
END:STANDARD
END:VTIMEZONE
BEGIN:VEVENT
DTSTART;TZID=Europe/Brussels:20250211T110000
DTEND;TZID=Europe/Brussels:20250211T130000
DTSTAMP:20260422T174337
CREATED:20250128T063840Z
LAST-MODIFIED:20250128T073158Z
UID:2563-1739271600-1739278800@nero-network.eu
SUMMARY:NERO Network Café Februrary 2025
DESCRIPTION:  \n\nJoin us for the 7th NERO Network Café Webinar\, where experts from across Europe will share insights on real-time wildfire analysis and its integration into emergency and civil protection practices. This webinar is part of the NERO (European Network on Extreme fiRe behaviOr\, CA22164) initiative\, fostering collaboration and knowledge exchange among researchers and practitioners. \nAgenda\n\n\n\n11:00 – 11:10 CET: Broad overview of NERO\, added value of Short-Term Scientific Missions (STSMs)\, and insights from STSMs in Lisbon\, Akli Benali\, University of Lisbon\, Portugal \n\n\n\n11:10 – 11:20 CET: Presentation by Alexandre Penha\, National Authority of Emergency and Civil Protection (ANEPC)\, Portugal \n\n\n\n11:20 – 11:30 CET: Presentation by Kadir Alperen Coşkuner\, Karadeniz Technical University\, Türkiye \n\n\n\n11:30 – 11:40 CET: Presentation by Georgios Papavasileiou\, National Observatory of Athens\, Greece \n\n\n\n11:40 – 11:50 CET: Presentation by Luca Di Giammatteo and Franco Casula\, Civil Protection Agency of the Abruzzo Region\, Italy\, and CNR\, Institute of BioEconomy\, Italy \n\n\n\n11:50 – 12:00 CET: Presentation by Valentina Bacciu and Michele Salis\, CNR\, Institute of BioEconomy\, Italy \n\n\n\n12:00 – 12:10 CET: Presentation by Edwin Kok\, Netherlands Fire Service\, Netherlands \n\n\n\n12:10 – 12:40 CET: Open Discussion \n\n\n\n\n\n\nModerator: Akli Benali\, University of Lisbon\, Portugal\n\n\n\n\n\n\n\n\nRegister Now\n\n\n\nDon’t miss this opportunity to gain valuable insights from leading experts in wildfire analysis and emergency response. \n\n\n\n📅 Date: 11th February 2025 ⏰ Time: 11:00 – 13:00 CET 📍 Location: Online (Webinar) \n\n\n\n🔗 Registration Link: https://forms.gle/jkwMpgFZ3GHLbGBG8 \n\n\n\n\n\nWe look forward to your participation in this exciting event!   \n  \n Facebook X (Twitter) LinkedIn Email
URL:https://nero-network.eu/event/nero-network-cafe-februrary-2025-real-time-wildfire-analysis-in-the-national-authority-of-emergency-and-civil-protection-portugal
LOCATION:Online
CATEGORIES:Webinars
ATTACH;FMTTYPE=image/png:https://nero-network.eu/wp-content/uploads/2025/01/NERO_Webinar_Announcement_Banner_Template_v1.0.pptx-8.png
END:VEVENT
BEGIN:VEVENT
DTSTART;TZID=Europe/Brussels:20241216T100000
DTEND;TZID=Europe/Brussels:20241216T120000
DTSTAMP:20260422T174337
CREATED:20241206T055809Z
LAST-MODIFIED:20241206T173634Z
UID:2528-1734343200-1734350400@nero-network.eu
SUMMARY:NERO Network Café – December 2024
DESCRIPTION:🌟 Join Us for the Next NERO Network Café Webinar! 🌟 \nOn December 16\, 2023\, at 10:00 AM CET\, we invite you to an engaging session focused on fuel characteristics and their role in fire behavior\, with a special emphasis on extreme fire events. \nThis edition of the NERO Network Café will feature two distinguished speakers: \n🔥 Paulo Fernandes\, Associate Professor at the University of Trás-os-Montes and Alto Douro (UTAD)\, Portugal. Paulo has over 30 years of experience in fire behavior\, ecology\, and management\, focusing on prescribed burning for hazard reduction. He has contributed to significant global reports such as UNEP’s “Spreading like Wildfire” and “State of Wildfires 2023-2024.” His research interests include the interaction between fuel\, vegetation\, and weather in determining fire behavior and its effects. National agencies and practitioners have widely adopted Paulo’s work. \n🔥 Jose Luis Soriano\, Forestry Technical Engineer with a background in Environmental Sciences\, GIS\, and Fire Management. Jose Luis is the Head of the Fire Analysis Unit at Generalitat Valenciana\, Spain\, with extensive experience in wildfire analysis\, training\, and international collaboration. He has participated in various wildfire management projects\, including those in Guatemala and Spain\, and has numerous publications. His presentation will focus on monitoring fuel moisture and its relation to fire behavior\, which was developed in collaboration with a university. \nAgenda: \n\nIntroduction by the Moderator – Context and Overview of the NERO Project (10 minutes)\nPresentation by Paulo Fernandes – “Effects of Structural Fuel Characteristics on Fire Behaviour” (30 minutes)\nTopics to be covered:\n\n\n\n\nWhat do we know about fuel type-fire behavior relationships?\nThe Role of fuels in extreme fire behavior\n\n\n\n\nPresentation by Jose Luis Soriano – “Monitoring Fuel Moisture: Data\, Uses\, and Collaborative Modelling Projects” (30 minutes)\nTopics to be covered:\n\n\n\n\nHistory of the Fuel Moisture Monitoring Project\nData obtained and its applications\nCollaborative modeling project with the University\n\n\n\n\nQ&A Session (30 minutes)\n\nDon’t miss this opportunity to gain valuable insights\, connect with experts\, and participate in a dynamic Q&A session on bridging science and practice in wildfire management. \n👉 Register now to secure your spot: https://forms.gle/XbxA6XsnaEp4X7cDA \nWe look forward to seeing you there! \n Facebook X (Twitter) LinkedIn Email
URL:https://nero-network.eu/event/nero-network-cafe-december2024
LOCATION:Online
CATEGORIES:Webinars
END:VEVENT
BEGIN:VEVENT
DTSTART;TZID=Europe/Brussels:20241025T100000
DTEND;TZID=Europe/Brussels:20241025T120000
DTSTAMP:20260422T174337
CREATED:20241202T105617Z
LAST-MODIFIED:20241206T055853Z
UID:2520-1729850400-1729857600@nero-network.eu
SUMMARY:NERO Network Café - October 2024
DESCRIPTION:On October 25\, 2024\, at 10:00 AM CET\, we invite you to an insightful session focused on international wildfire response and the integration of cutting-edge research into operational decision-making across Europe.\n\n\n\nThis edition of NERO Network Café will feature two esteemed speakers: \n\n\n Héctor Alfaro Fernández from the Emergency Response Coordination Centre (ERCC)\, DG ECHO\, who will share insights on how the ERCC monitors fire risks\, deploys resources\, and utilizes technology in response operations across Europe. \n\n\n Jean-Baptiste Filippi\, CNRS Researcher\, will dive into advanced fire-atmosphere modeling\, exploring how tools like Forefire and FirecasterAPI support fire prediction and decision-making in real-time. \n\n\n\n\nDon’t miss out on this opportunity to learn from top experts in the field and participate in an engaging debate on wildfire management! \n\n\n\nFollow this link to register to the webinar! \n\n Facebook X (Twitter) LinkedIn Email
URL:https://nero-network.eu/event/nero-network-cafe-october-2024
LOCATION:Online
CATEGORIES:Webinars
END:VEVENT
BEGIN:VEVENT
DTSTART;TZID=Europe/Brussels:20240924T100000
DTEND;TZID=Europe/Brussels:20240924T120000
DTSTAMP:20260422T174337
CREATED:20241202T105014Z
LAST-MODIFIED:20241202T105055Z
UID:2516-1727172000-1727179200@nero-network.eu
SUMMARY:NERO Network Café - September 2024
DESCRIPTION:After a short summer break\, we’re back to announce the third NERO Network Café Webinar! \nJoin us as we dive into the science behind extreme fire behavior and discuss the essential needs for operational response. This is a must-attend event for anyone involved in fire management and safety! \nFollow this link to register for the webinar!. \n Facebook X (Twitter) LinkedIn Email
URL:https://nero-network.eu/event/nero-network-cafe-september-2024
LOCATION:Online
CATEGORIES:Webinars
END:VEVENT
BEGIN:VEVENT
DTSTART;TZID=Europe/Brussels:20240627T100000
DTEND;TZID=Europe/Brussels:20240627T120000
DTSTAMP:20260422T174337
CREATED:20241202T104407Z
LAST-MODIFIED:20241202T105229Z
UID:2510-1719482400-1719489600@nero-network.eu
SUMMARY:NERO Network Café - June 2024
DESCRIPTION:Are you ready to discover how science can enhance operational responses to extreme wildfires? \nWe’re excited to announce our second webinar/workshop of the NERO Network Café series\, focused on providing invaluable insights from leading experts on how science can support operational responses to extreme wildfires! \nGet invaluable insights from the operational experience of practitioners to better understand how science can help increase efficiency in the operational response to extreme wildfire events. \nFollow this link to register for the webinar. \n Facebook X (Twitter) LinkedIn Email
URL:https://nero-network.eu/event/nero-network-cafe-june-2024
LOCATION:Online
CATEGORIES:Webinars
END:VEVENT
BEGIN:VEVENT
DTSTART;TZID=Europe/Brussels:20240531T100000
DTEND;TZID=Europe/Brussels:20240531T120000
DTSTAMP:20260422T174337
CREATED:20241202T101227Z
LAST-MODIFIED:20241202T104648Z
UID:2492-1717149600-1717156800@nero-network.eu
SUMMARY:NERO Network Café - May 2024
DESCRIPTION:Are you ready to dive into the practical tools for reconstructing wildfire spread? \nWe’re excited to announce our first webinar/workshop of the NERO Network Café series\, focused on equipping you with essential skills and knowledge in the critical task of reconstructing wildfire spread. \nRegistration: Follow this link to register for the webinar/workshop! \n Facebook X (Twitter) LinkedIn Email
URL:https://nero-network.eu/event/nero-network-cafe-may-2024
LOCATION:Online
CATEGORIES:Webinars
END:VEVENT
END:VCALENDAR